BEGIN:VCALENDAR
VERSION:2.0
PRODID:icalendar-ruby
CALSCALE:GREGORIAN
METHOD:PUBLISH
BEGIN:VEVENT
DTSTAMP:20260420T151359Z
UID:56-1422357@shadygrovechurch.net
DTSTART:20260923T230000Z
DTEND:20260924T000000Z
CLASS:PUBLIC
CREATED:20260420T091506
DESCRIPTION:This interactive discipleship partner study is designed to add 
 to your real life faith. Participants are encouraged to connect with their
  discipleship partners weekly for the opportunity to be ministered to and 
 to minister to another. \nContact Pastor Tim to get involved. 
LAST-MODIFIED:20260420T091506
LOCATION:
SUMMARY:Wednesday Evening Service
URL;VALUE=URI:https://www.shadygrovechurch.net/events/wednesday-evening-ser
 vice--56/2026-09-23
ATTACH;FILENAME=Discipleship 101 Series slide.png;FMTTYPE=image/png:https:/
 /dq5pwpg1q8ru0.cloudfront.net/2026/01/20/00/26/49/f32449a8-61fb-474b-b3f5-
 37fd33459202/Discipleship%20101%20Series%20slide.png
END:VEVENT
END:VCALENDAR
