BEGIN:VCALENDAR
VERSION:2.0
PRODID:icalendar-ruby
CALSCALE:GREGORIAN
METHOD:PUBLISH
BEGIN:VEVENT
DTSTAMP:20260423T120800Z
UID:303-1346539@shadygrovechurch.net
DTSTART:20260426T150000Z
DTEND:20260426T160000Z
CLASS:PUBLIC
CREATED:20260326T171308
DESCRIPTION:Help fill JJ and Carson's new pantry with non-parishable food i
 tems or grocery giftcards for when they get married on May 30. Leave items
  in the basket shower basket at the Information Center between April 26 an
 d May 10. 
LAST-MODIFIED:20260326T171308
LOCATION:
SUMMARY:Pantry Pounding
URL;VALUE=URI:https://www.shadygrovechurch.net/events/pantry-pounding/2026-
 04-26
ATTACH;FILENAME=JJ & Carsons Pantry Pounding slide.png;FMTTYPE=image/png:ht
 tps://dq5pwpg1q8ru0.cloudfront.net/2026/03/26/21/13/08/5d8f4fa8-1f01-4d6e-
 af51-7feccd8bcb0a/JJ%20&%20Carsons%20Pantry%20Pounding%20slide.png
END:VEVENT
END:VCALENDAR
