BEGIN:VCALENDAR
VERSION:2.0
PRODID:icalendar-ruby
CALSCALE:GREGORIAN
METHOD:PUBLISH
BEGIN:VEVENT
DTSTAMP:20260420T203154Z
UID:54-1423211@shadygrovechurch.net
DTSTART:20261004T140000Z
DTEND:20261004T144500Z
CLASS:PUBLIC
CREATED:20260420T142314
DESCRIPTION:Come find a group that fits your stage of life and feels like f
 amily.  Click the "LIFE GROUPS" tab below to see all of the different gro
 ups we offer during this hour.
LAST-MODIFIED:20260420T142314
LOCATION:
SUMMARY:Life Groups
URL;VALUE=URI:https://www.shadygrovechurch.net/events/life-groups/2026-10-0
 4
ATTACH;FILENAME=Life Groups Newsletter Image.png;FMTTYPE=image/png:https://
 dq5pwpg1q8ru0.cloudfront.net/2025/01/07/19/43/33/d91edbfd-628c-4720-910f-f
 c91c3dce58d/Life%20Groups%20Newsletter%20Image.png
END:VEVENT
END:VCALENDAR
